BEGIN:VCALENDAR
PRODID:NingEventWidget-v1
VERSION:2.0
METHOD:PUBLISH
BEGIN:VTIMEZONE
TZID:America/New_York
X-LIC-LOCATION:America/New_York
BEGIN:DAYLIGHT
TZOFFSETFROM:-0500
TZOFFSETTO:-0400
TZNAME:EDT
DTSTART:19700308T020000
RRULE:FREQ=YEARLY;BYMONTH=3;BYDAY=2SU
END:DAYLIGHT
BEGIN:STANDARD
TZOFFSETFROM:-0400
TZOFFSETTO:-0500
TZNAME:EST
DTSTART:19701101T020000
RRULE:FREQ=YEARLY;BYMONTH=11;BYDAY=1SU
END:STANDARD
END:VTIMEZONE
BEGIN:VEVENT
UID:889755:Event:6764692
DTSTAMP:20260422T114727Z
SUMMARY:Essentials of Fire Chaplaincy class
DESCRIPTION:Essentials of Fire Chaplaincy is the \"basic\" course for 
 both long-time and new chaplains.  Experienced chaplains in the Feder
 ation of Fire Chaplains will share what makes fire chaplaincy unique a
 nd how to be effective in providing for the spiritual, emotional, and 
 psychological health of your firefighters, their families, and people 
 in the community.  chaplain%20brochure%202021a.pdf\n\nFor more infor
 mation visit https://my.firefighternation.com/events/essentials-of-fir
 e-chaplaincy-class
DTSTART;TZID=America/New_York:20210524T083000
DTEND;TZID=America/New_York:20210525T170000
CATEGORIES:chaplain, chaplains, training, class, seminar
LOCATION:Hawker United Church of Christ
WEBSITE:http://www.offc.org
URL:http://www.offc.org
CONTACT:937-426-0973
ORGANIZER:Chaplain David Williamson
ATTACH;FMTTYPE="image/jpeg":https://storage.ning.com/topology/rest/1.0
 /file/get/8629386458?profile=original
ATTENDEE;ROLE=REQ-PARTICIPANT;PARTSTAT=ACCEPTED;RSVP=TRUE;CN="David Wi
 lliamson":https://my.firefighternation.com/profile/DavidWilliamson359
END:VEVENT
END:VCALENDAR
