BEGIN:VCALENDAR
PRODID:NingEventWidget-v1
VERSION:2.0
METHOD:PUBLISH
BEGIN:VTIMEZONE
TZID:America/New_York
X-LIC-LOCATION:America/New_York
BEGIN:DAYLIGHT
TZOFFSETFROM:-0500
TZOFFSETTO:-0400
TZNAME:EDT
DTSTART:19700308T020000
RRULE:FREQ=YEARLY;BYMONTH=3;BYDAY=2SU
END:DAYLIGHT
BEGIN:STANDARD
TZOFFSETFROM:-0400
TZOFFSETTO:-0500
TZNAME:EST
DTSTART:19701101T020000
RRULE:FREQ=YEARLY;BYMONTH=11;BYDAY=1SU
END:STANDARD
END:VTIMEZONE
BEGIN:VEVENT
UID:889755:Event:6297228
DTSTAMP:20260422T120620Z
SUMMARY:Chaplain Training - \"Managing School Crises\"
DESCRIPTION:Chaplains, other clergy, firefighters, police, sheriffs, E
 MS personnel, and educators are invited to learn how we can help child
 ren, faculty, and parents when nearby schools experience a crisis situ
 ation.\nFollowing the Newtown CT shootings, first responders reported 
 having a tough time handling the horrific sights and sounds and smells
 , and dealing with victims and their families.  Our instructor was on
 -scene, in Newtown and at the Aurora CO theater shooting, and she'll s
 hare the very latest \"lessons learned.\"\n\nFor more information visi
 t https://my.firefighternation.com/events/chaplain-training-managing-s
 chool-crises
DTSTART;TZID=America/New_York:20130506T080000
DTEND;TZID=America/New_York:20130507T170000
CATEGORIES:chaplain, 2-day, seminar
LOCATION:Hermitage Fire Dept. Station 3
WEBSITE:http://www.firechaplains.org/Resources/Documents/Training%20Ev
 ents/Hermitage/Hermitage%202013%20brochure.pdf
URL:http://www.firechaplains.org/Resources/Documents/Training%20Events
 /Hermitage/Hermitage%202013%20brochure.pdf
CONTACT:724-342-2310
ORGANIZER;CN="David Williamson":https://my.firefighternation.com/profi
 le/DavidWilliamson359
ATTACH;FMTTYPE="image/jpeg":http://storage.ning.com/topology/rest/1.0/
 file/get/1986518407?profile=original
ATTENDEE;ROLE=REQ-PARTICIPANT;PARTSTAT=ACCEPTED;RSVP=TRUE;CN="David Wi
 lliamson":https://my.firefighternation.com/profile/DavidWilliamson359
END:VEVENT
END:VCALENDAR
