BEGIN:VCALENDAR
PRODID:NingEventWidget-v1
VERSION:2.0
METHOD:PUBLISH
BEGIN:VTIMEZONE
TZID:America/New_York
X-LIC-LOCATION:America/New_York
BEGIN:DAYLIGHT
TZOFFSETFROM:-0500
TZOFFSETTO:-0400
TZNAME:EDT
DTSTART:19700308T020000
RRULE:FREQ=YEARLY;BYMONTH=3;BYDAY=2SU
END:DAYLIGHT
BEGIN:STANDARD
TZOFFSETFROM:-0400
TZOFFSETTO:-0500
TZNAME:EST
DTSTART:19701101T020000
RRULE:FREQ=YEARLY;BYMONTH=11;BYDAY=1SU
END:STANDARD
END:VTIMEZONE
BEGIN:VEVENT
UID:889755:Event:6691919
DTSTAMP:20260422T094010Z
SUMMARY:20th Annual Heroes FDNY-NYPD Baseball Classic Game
DESCRIPTION:\n20th Annual Heroes FDNY-NYPD Baseball Classic Game at MC
 U Ballpark in Coney Island, Brooklyn, NY\nTickets $10 online, $15 at t
 he box office, Children under 5 free.\nTickets available online at:\nh
 ttp://www.fdnybaseball.com/jump/30\n\nFor more information visit https
 ://my.firefighternation.com/events/20th-annual-heroes-fdny-nypd-baseba
 ll-classic-game
DTSTART;TZID=America/New_York:20190823T190000
DTEND;TZID=America/New_York:20190823T220000
CATEGORIES:charity, ball, game
LOCATION:MCU Ballpark
WEBSITE:http://www.fdnybaseball.com
URL:http://www.fdnybaseball.com
CONTACT:
ORGANIZER:FDNY Baseball
ATTACH;FMTTYPE="image/jpeg":https://storage.ning.com/topology/rest/1.0
 /file/get/3377952382?profile=original
ATTENDEE;ROLE=REQ-PARTICIPANT;PARTSTAT=ACCEPTED;RSVP=TRUE;CN="Alvin Go
 nzalez":https://my.firefighternation.com/profile/AlvinGonzalez
END:VEVENT
END:VCALENDAR
